Workbook

Sheet 1월
A1: ( 1 ) 월 헌금 사용 보고서 ( ) 목 장 | L1: 결재 | M1: 회 계 | P1: 목 자 | S1: 담임목사
A3: 일 시 | D3: 2018년 월 일
A4: 전월이월금+금월수입 | G4: =F19 -> 0 | L4: 금 월 지 출 계 | Q4: =P19 -> 0
A5: 금 월 마 감 잔 액 | G5: =G4-Q4 -> 0 | L5: 현 금 : | Q5: 예 금 :
A6: 수 입 부 | L6: 지 출 부
A7: 내 용 | F7: 금 액 (원) | I7: 비 고 | L7: 내 용 | P7: 금 액 (원) | S7: 비 고
A8: 정기헌금 | B8: 1 주 | L8: 목 장 헌 금
B9: 2 주 | L9: 생 일 자 선 물
B10: 3 주 | L10: 목 장 식 사
B11: 4 주
B12: 5 주
A13: 기타
A16: 기 타 수 입 | F16: =SUM(F13:H15) -> 0
A17: 금 월 계 | F17: =SUM(F8:H15) -> 0
A18: 전 월 이 월 금
A19: 합 계 | F19: =SUM(F17,F18) -> 0 | L19: 합 계 | P19: =SUM(P8:R18) -> 0
L20: 잔액(차월이월금) | P20: =G5 -> 0
A22: 비고
L29: 목 자
H30: 목 장
L31: 회 계

Sheet 2월
A1: ( 2 ) 월 헌금 사용 보고서 ( ) 목 장 | L1: 결재 | M1: 회 계 | P1: 목 자 | S1: 담임목사
A3: 일 시 | D3: 2018년 월 일
A4: 전월이월금+금월수입 | G4: =F19 -> 0 | L4: 금 월 지 출 계 | Q4: =P19 -> 0
A5: 금 월 마 감 잔 액 | G5: =G4-Q4 -> 0 | L5: 현 금 : | Q5: 예 금 :
A6: 수 입 부 | L6: 지 출 부
A7: 내 용 | F7: 금 액 (원) | I7: 비 고 | L7: 내 용 | P7: 금 액 (원) | S7: 비 고
A8: 정기헌금 | B8: 1 주 | L8: 목 장 헌 금
B9: 2 주 | L9: 생 일 자 선 물
B10: 3 주 | L10: 목 장 식 사
B11: 4 주
B12: 5 주
A13: 기타
A16: 기 타 수 입 | F16: =SUM(F13:H15) -> 0
A17: 금 월 계 | F17: =SUM(F8:H15) -> 0
A18: 전 월 이 월 금 | F18: ='1월'!G5 -> 0
A19: 합 계 | F19: =SUM(F17,F18) -> 0 | L19: 합 계 | P19: =SUM(P8:R18) -> 0
L20: 잔액(차월이월금)
A22: 비고
L29: 목 자
H30: 목 장
L31: 회 계

Sheet 3월
A1: ( 3 ) 월 헌금 사용 보고서 ( ) 목 장 | L1: 결재 | M1: 회 계 | P1: 목 자 | S1: 담임목사
A3: 일 시 | D3: 2018년 월 일
A4: 전월이월금+금월수입 | G4: =F19 -> 0 | L4: 금 월 지 출 계 | Q4: =P19 -> 0
A5: 금 월 마 감 잔 액 | G5: =G4-Q4 -> 0 | L5: 현 금 : | Q5: 예 금 :
A6: 수 입 부 | L6: 지 출 부
A7: 내 용 | F7: 금 액 (원) | I7: 비 고 | L7: 내 용 | P7: 금 액 (원) | S7: 비 고
A8: 정기헌금 | B8: 1 주 | L8: 목 장 헌 금
B9: 2 주 | L9: 생 일 자 선 물
B10: 3 주 | L10: 목 장 식 사
B11: 4 주
B12: 5 주
A13: 기타
A16: 기 타 수 입 | F16: =SUM(F13:H15) -> 0
A17: 금 월 계 | F17: =SUM(F8:H15) -> 0
A18: 전 월 이 월 금 | F18: ='2월'!G5 -> 0
A19: 합 계 | F19: =SUM(F17,F18) -> 0 | L19: 합 계 | P19: =SUM(P8:R18) -> 0
L20: 잔액(차월이월금) | P20: =G5 -> 0
A22: 비고
L29: 목 자
H30: 목 장
L31: 회 계

Sheet 4월
A1: ( 4 ) 월 헌금 사용 보고서 ( ) 목 장 | L1: 결재 | M1: 회 계 | P1: 목 자 | S1: 담임목사
A3: 일 시 | D3: 2018년 월 일
A4: 전월이월금+금월수입 | G4: =F19 -> 0 | L4: 금 월 지 출 계 | Q4: =P19 -> 0
A5: 금 월 마 감 잔 액 | G5: =G4-Q4 -> 0 | L5: 현 금 : | Q5: 예 금 :
A6: 수 입 부 | L6: 지 출 부
A7: 내 용 | F7: 금 액 (원) | I7: 비 고 | L7: 내 용 | P7: 금 액 (원) | S7: 비 고
A8: 정기헌금 | B8: 1 주 | L8: 목 장 헌 금
B9: 2 주 | L9: 생 일 자 선 물
B10: 3 주 | L10: 목 장 식 사
B11: 4 주
B12: 5 주
A13: 기타
A16: 기 타 수 입 | F16: =SUM(F13:H15) -> 0
A17: 금 월 계 | F17: =SUM(F8:H15) -> 0
A18: 전 월 이 월 금 | F18: ='3월'!G5 -> 0
A19: 합 계 | F19: =SUM(F17,F18) -> 0 | L19: 합 계 | P19: =SUM(P8:R18) -> 0
L20: 잔액(차월이월금) | P20: =G5 -> 0
A22: 비고
L29: 목 자
H30: 목 장
L31: 회 계

Sheet 5월
A1: ( 5 ) 월 헌금 사용 보고서 ( ) 목 장 | L1: 결재 | M1: 회 계 | P1: 목 자 | S1: 담임목사
A3: 일 시 | D3: 2018년 월 일
A4: 전월이월금+금월수입 | G4: =F19 -> 0 | L4: 금 월 지 출 계 | Q4: =P19 -> 0
A5: 금 월 마 감 잔 액 | G5: =G4-Q4 -> 0 | L5: 현 금 : | Q5: 예 금 :
A6: 수 입 부 | L6: 지 출 부
A7: 내 용 | F7: 금 액 (원) | I7: 비 고 | L7: 내 용 | P7: 금 액 (원) | S7: 비 고
A8: 정기헌금 | B8: 1 주 | L8: 목 장 헌 금
B9: 2 주 | L9: 생 일 자 선 물
B10: 3 주 | L10: 목 장 식 사
B11: 4 주
B12: 5 주
A13: 기타
A16: 기 타 수 입 | F16: =SUM(F13:H15) -> 0
A17: 금 월 계 | F17: =SUM(F8:H15) -> 0
A18: 전 월 이 월 금 | F18: ='4월'!G5 -> 0
A19: 합 계 | F19: =SUM(F17,F18) -> 0 | L19: 합 계 | P19: =SUM(P8:R18) -> 0
L20: 잔액(차월이월금) | P20: =G5 -> 0
A22: 비고
L29: 목 자
H30: 목 장
L31: 회 계

Sheet 6월
A1: ( 6 ) 월 헌금 사용 보고서 ( ) 목 장 | L1: 결재 | M1: 회 계 | P1: 목 자 | S1: 담임목사
A3: 일 시 | D3: 2018년 월 일
A4: 전월이월금+금월수입 | G4: =F19 -> 0 | L4: 금 월 지 출 계 | Q4: =P19 -> 0
A5: 금 월 마 감 잔 액 | G5: =G4-Q4 -> 0 | L5: 현 금 : | Q5: 예 금 :
A6: 수 입 부 | L6: 지 출 부
A7: 내 용 | F7: 금 액 (원) | I7: 비 고 | L7: 내 용 | P7: 금 액 (원) | S7: 비 고
A8: 정기헌금 | B8: 1 주 | L8: 목 장 헌 금
B9: 2 주 | L9: 생 일 자 선 물
B10: 3 주 | L10: 목 장 식 사
B11: 4 주
B12: 5 주
A13: 기타
A16: 기 타 수 입 | F16: =SUM(F13:H15) -> 0
A17: 금 월 계 | F17: =SUM(F8:H15) -> 0
A18: 전 월 이 월 금 | F18: ='5월'!G5 -> 0
A19: 합 계 | F19: =SUM(F17,F18) -> 0 | L19: 합 계 | P19: =SUM(P8:R18) -> 0
L20: 잔액(차월이월금) | P20: =G5 -> 0
A22: 비고
L29: 목 자
H30: 목 장
L31: 회 계

Sheet 7월
A1: ( 7 ) 월 헌금 사용 보고서 ( ) 목 장 | L1: 결재 | M1: 회 계 | P1: 목 자 | S1: 담임목사
A3: 일 시 | D3: 2018년 월 일
A4: 전월이월금+금월수입 | G4: =F19 -> 0 | L4: 금 월 지 출 계 | Q4: =P19 -> 0
A5: 금 월 마 감 잔 액 | G5: =G4-Q4 -> 0 | L5: 현 금 : | Q5: 예 금 :
A6: 수 입 부 | L6: 지 출 부
A7: 내 용 | F7: 금 액 (원) | I7: 비 고 | L7: 내 용 | P7: 금 액 (원) | S7: 비 고
A8: 정기헌금 | B8: 1 주 | L8: 목 장 헌 금
B9: 2 주 | L9: 생 일 자 선 물
B10: 3 주 | L10: 목 장 식 사
B11: 4 주
B12: 5 주
A13: 기타
A16: 기 타 수 입 | F16: =SUM(F13:H15) -> 0
A17: 금 월 계 | F17: =SUM(F8:H15) -> 0
A18: 전 월 이 월 금 | F18: ='6월'!G5 -> 0
A19: 합 계 | F19: =SUM(F17,F18) -> 0 | L19: 합 계 | P19: =SUM(P8:R18) -> 0
L20: 잔액(차월이월금) | P20: =G5 -> 0
A22: 비고
L29: 목 자
H30: 목 장
L31: 회 계

Sheet 8월
A1: ( 8 ) 월 헌금 사용 보고서 ( ) 목 장 | L1: 결재 | M1: 회 계 | P1: 목 자 | S1: 담임목사
A3: 일 시 | D3: 2018년 월 일
A4: 전월이월금+금월수입 | G4: =F19 -> 0 | L4: 금 월 지 출 계 | Q4: =P19 -> 0
A5: 금 월 마 감 잔 액 | G5: =G4-Q4 -> 0 | L5: 현 금 : | Q5: 예 금 :
A6: 수 입 부 | L6: 지 출 부
A7: 내 용 | F7: 금 액 (원) | I7: 비 고 | L7: 내 용 | P7: 금 액 (원) | S7: 비 고
A8: 정기헌금 | B8: 1 주 | L8: 목 장 헌 금
B9: 2 주 | L9: 생 일 자 선 물
B10: 3 주 | L10: 목 장 식 사
B11: 4 주
B12: 5 주
A13: 기타
A16: 기 타 수 입 | F16: =SUM(F13:H15) -> 0
A17: 금 월 계 | F17: =SUM(F8:H15) -> 0
A18: 전 월 이 월 금 | F18: ='7월'!G5 -> 0
A19: 합 계 | F19: =SUM(F17,F18) -> 0 | L19: 합 계 | P19: =SUM(P8:R18) -> 0
L20: 잔액(차월이월금) | P20: =G5 -> 0
A22: 비고
L29: 목 자
H30: 목 장
L31: 회 계

Sheet 9월
A1: ( 9 ) 월 헌금 사용 보고서 ( ) 목 장 | L1: 결재 | M1: 회 계 | P1: 목 자 | S1: 담임목사
A3: 일 시 | D3: 2018년 월 일
A4: 전월이월금+금월수입 | G4: =F19 -> 0 | L4: 금 월 지 출 계 | Q4: =P19 -> 0
A5: 금 월 마 감 잔 액 | G5: =G4-Q4 -> 0 | L5: 현 금 : | Q5: 예 금 :
A6: 수 입 부 | L6: 지 출 부
A7: 내 용 | F7: 금 액 (원) | I7: 비 고 | L7: 내 용 | P7: 금 액 (원) | S7: 비 고
A8: 정기헌금 | B8: 1 주 | L8: 목 장 헌 금
B9: 2 주 | L9: 생 일 자 선 물
B10: 3 주 | L10: 목 장 식 사
B11: 4 주
B12: 5 주
A13: 기타
A16: 기 타 수 입 | F16: =SUM(F13:H15) -> 0
A17: 금 월 계 | F17: =SUM(F8:H15) -> 0
A18: 전 월 이 월 금 | F18: ='8월'!G5 -> 0
A19: 합 계 | F19: =SUM(F17,F18) -> 0 | L19: 합 계 | P19: =SUM(P8:R18) -> 0
L20: 잔액(차월이월금) | P20: =G5 -> 0
A22: 비고
L29: 목 자
H30: 목 장
L31: 회 계

Sheet 10월
A1: ( 10 ) 월 헌금 사용 보고서 ( ) 목 장 | L1: 결재 | M1: 회 계 | P1: 목 자 | S1: 담임목사
A3: 일 시 | D3: 2018년 월 일
A4: 전월이월금+금월수입 | G4: =F19 -> 0 | L4: 금 월 지 출 계 | Q4: =P19 -> 0
A5: 금 월 마 감 잔 액 | G5: =G4-Q4 -> 0 | L5: 현 금 : | Q5: 예 금 :
A6: 수 입 부 | L6: 지 출 부
A7: 내 용 | F7: 금 액 (원) | I7: 비 고 | L7: 내 용 | P7: 금 액 (원) | S7: 비 고
A8: 정기헌금 | B8: 1 주 | L8: 목 장 헌 금
B9: 2 주 | L9: 생 일 자 선 물
B10: 3 주 | L10: 목 장 식 사
B11: 4 주
B12: 5 주
A13: 기타
A16: 기 타 수 입 | F16: =SUM(F13:H15) -> 0
A17: 금 월 계 | F17: =SUM(F8:H15) -> 0
A18: 전 월 이 월 금 | F18: ='9월'!G5 -> 0
A19: 합 계 | F19: =SUM(F17,F18) -> 0 | L19: 합 계 | P19: =SUM(P8:R18) -> 0
L20: 잔액(차월이월금) | P20: =G5 -> 0
A22: 비고
L29: 목 자
H30: 목 장
L31: 회 계

Sheet 11월
A1: ( 11 ) 월 헌금 사용 보고서 ( ) 목 장 | L1: 결재 | M1: 회 계 | P1: 목 자 | S1: 담임목사
A3: 일 시 | D3: 2018년 월 일
A4: 전월이월금+금월수입 | G4: =F19 -> 0 | L4: 금 월 지 출 계 | Q4: =P19 -> 0
A5: 금 월 마 감 잔 액 | G5: =G4-Q4 -> 0 | L5: 현 금 : | Q5: 예 금 :
A6: 수 입 부 | L6: 지 출 부
A7: 내 용 | F7: 금 액 (원) | I7: 비 고 | L7: 내 용 | P7: 금 액 (원) | S7: 비 고
A8: 정기헌금 | B8: 1 주 | L8: 목 장 헌 금
B9: 2 주 | L9: 생 일 자 선 물
B10: 3 주 | L10: 목 장 식 사
B11: 4 주
B12: 5 주
A13: 기타
A16: 기 타 수 입 | F16: =SUM(F13:H15) -> 0
A17: 금 월 계 | F17: =SUM(F8:H15) -> 0
A18: 전 월 이 월 금 | F18: ='10월'!G5 -> 0
A19: 합 계 | F19: =SUM(F17,F18) -> 0 | L19: 합 계 | P19: =SUM(P8:R18) -> 0
L20: 잔액(차월이월금) | P20: =G5 -> 0
A22: 비고
L29: 목 자
H30: 목 장
L31: 회 계

Sheet 12월
A1: ( ) 월 헌금 사용 보고서 ( ) 목 장 | L1: 결재 | M1: 회 계 | P1: 목 자 | S1: 담임목사
A3: 일 시 | D3: 2018년 월 일
A4: 전월이월금+금월수입 | G4: =F19 -> 0 | L4: 금 월 지 출 계 | Q4: =P19 -> 0
A5: 금 월 마 감 잔 액 | G5: =G4-Q4 -> 0 | L5: 현 금 : | Q5: 예 금 :
A6: 수 입 부 | L6: 지 출 부
A7: 내 용 | F7: 금 액 (원) | I7: 비 고 | L7: 내 용 | P7: 금 액 (원) | S7: 비 고
A8: 정기헌금 | B8: 1 주 | L8: 목 장 헌 금
B9: 2 주 | L9: 생 일 자 선 물
B10: 3 주 | L10: 목 장 식 사
B11: 4 주
B12: 5 주
A13: 기타
A16: 기 타 수 입 | F16: =SUM(F13:H15) -> 0
A17: 금 월 계 | F17: =SUM(F8:H15) -> 0
A18: 전 월 이 월 금 | F18: ='11월'!G5 -> 0
A19: 합 계 | F19: =SUM(F17,F18) -> 0 | L19: 합 계 | P19: =SUM(P8:R18) -> 0
L20: 잔액(차월이월금) | P20: =G5 -> 0
A22: 비고
L29: 목 자
H30: 목 장
L31: 회 계
